BEGIN:VCALENDAR
VERSION:2.0
PRODID:-//VFC LONDON - ECPv6.10.1//NONSGML v1.0//EN
CALSCALE:GREGORIAN
METHOD:PUBLISH
X-WR-CALNAME:VFC LONDON
X-ORIGINAL-URL:https://vfclondon.org
X-WR-CALDESC:Events for VFC LONDON
REFRESH-INTERVAL;VALUE=DURATION:PT1H
X-Robots-Tag:noindex
X-PUBLISHED-TTL:PT1H
BEGIN:VTIMEZONE
TZID:UTC
BEGIN:STANDARD
TZOFFSETFROM:+0000
TZOFFSETTO:+0000
TZNAME:UTC
DTSTART:20260101T000000
END:STANDARD
END:VTIMEZONE
BEGIN:VEVENT
DTSTART;TZID=UTC:20260315T103000
DTEND;TZID=UTC:20260315T123000
DTSTAMP:20260421T184619
CREATED:20260222T010645Z
LAST-MODIFIED:20260304T052119Z
UID:373177-1773570600-1773577800@vfclondon.org
SUMMARY:Mothering Sunday
DESCRIPTION:Celebrate the beauty\, strength\, and faith of motherhood in a powerful and joy-filled Mother’s Day church service! 🌸 \nThis special service honours the incredible women who nurture\, guide\, and inspire us every day. Through uplifting worship\, heartfelt testimonies\, and a meaningful message rooted in Scripture\, we reflect on the love of mothers as a beautiful expression of God’s own compassion and care. \nThe service will feature: \n\n\nInspiring music that celebrates faith\, family\, and gratitude \n\n\nA dynamic message highlighting the biblical impact of mothers like Book of Proverbs 31 and the faithful influence of Mary \n\n\nSpecial moments of recognition and prayer for mothers\, grandmothers\, spiritual mothers\, and mother-figures \n\n\nOpportunities for children and families to express appreciation in creative and touching ways \n\nSpecial presentation to the mothers from the Men’s Ministry!\n\nMore than just a celebration\, this service is a time of encouragement — reminding every woman that her love\, sacrifices\, and prayers make an eternal difference. Whether rejoicing\, remembering\, or seeking comfort\, all are welcomed into a spirit of honor\, hope\, and heartfelt thanksgiving. \nIt’s a day filled with joy\, gratitude\, and the powerful reminder that a mother’s love reflects the heart of God. 💐
URL:https://vfclondon.org/vfc-events/mothering-sunday/
LOCATION:VFC London Church Venue\, St George's Shopping & Leisure\, Vue Cinema\, Screen 1 Centre\, St Anne's Road\, London\, London\, Harrow on the hill\, HA1 1HS\, United Kingdom
CATEGORIES:Connect
ATTACH;FMTTYPE=image/png:https://vfclondon.org/wp-content/uploads/2026/02/MotheringSunday.png
END:VEVENT
BEGIN:VEVENT
DTSTART;TZID=UTC:20260315T130000
DTEND;TZID=UTC:20260315T160000
DTSTAMP:20260421T184619
CREATED:20260222T005536Z
LAST-MODIFIED:20260304T052357Z
UID:373174-1773579600-1773590400@vfclondon.org
SUMMARY:Teens Club (Mar)
DESCRIPTION:Join us for Teens Club\, a fun-filled and impactful gathering for the teens of our church aged 13-18! Taking place every Sunday mid month\, this event is a great opportunity to connect\, grow\, and have fun. Expect exciting games\, engaging discussions\, and a time of sharing from the Word. Whether you’re new or a regular\, come and be part of a community that empowers and encourages one another in faith. \n📅 Date: Sunday March 15th📍 Location: TBD⏰ Time: From 1PM \nBring a friend and let’s make it a great time together! 🎉
URL:https://vfclondon.org/vfc-events/teens-club-mar/
LOCATION:Harrow on the hill
CATEGORIES:Connect
ATTACH;FMTTYPE=image/png:https://vfclondon.org/wp-content/uploads/2026/02/TeenClubMarch.png
END:VEVENT
END:VCALENDAR