BEGIN:VCALENDAR
VERSION:2.0
PRODID:-//VFC LONDON - ECPv6.10.1//NONSGML v1.0//EN
CALSCALE:GREGORIAN
METHOD:PUBLISH
X-ORIGINAL-URL:https://vfclondon.org
X-WR-CALDESC:Events for VFC LONDON
REFRESH-INTERVAL;VALUE=DURATION:PT1H
X-Robots-Tag:noindex
X-PUBLISHED-TTL:PT1H
BEGIN:VTIMEZONE
TZID:UTC
BEGIN:STANDARD
TZOFFSETFROM:+0000
TZOFFSETTO:+0000
TZNAME:UTC
DTSTART:20260101T000000
END:STANDARD
END:VTIMEZONE
BEGIN:VEVENT
DTSTART;TZID=UTC:20260404T120000
DTEND;TZID=UTC:20260404T160000
DTSTAMP:20260421T170919
CREATED:20260222T011414Z
LAST-MODIFIED:20260330T085148Z
UID:373186-1775304000-1775318400@vfclondon.org
SUMMARY:Easter Saturday Evangelism
DESCRIPTION:Join us for a powerful time of Evangelism Outreach as we share the love of Jesus with our community. We’ll be at St. George’s Mall and St. Anne’s Mall in Harrow-on-the-Hill\, spreading the message of hope and salvation to those around us. Whether you’ve shared your faith before or are new to evangelism\, this is a great opportunity to step out and make a difference! \n📍 Location: Harrow-on-the-Hill (St. George’s Mall & St. Anne’s Mall)⏰ Time: 12:00 PM – 4:00 PM \nLet’s go out and shine the light of Christ together!
URL:https://vfclondon.org/vfc-events/easter-saturday-evangelism/
LOCATION:Harrow on the hill\, St. Anns Rd\, Harrow HA1 1HS\, London\, Harrow on the hill\, HA11HS\, United Kingdom
CATEGORIES:Connect
ATTACH;FMTTYPE=image/png:https://vfclondon.org/wp-content/uploads/2026/02/EvangelismSat-1.png
END:VEVENT
END:VCALENDAR