BEGIN:VCALENDAR
VERSION:2.0
PRODID:-//VFC LONDON - ECPv6.10.1//NONSGML v1.0//EN
CALSCALE:GREGORIAN
METHOD:PUBLISH
X-ORIGINAL-URL:https://vfclondon.org
X-WR-CALDESC:Events for VFC LONDON
REFRESH-INTERVAL;VALUE=DURATION:PT1H
X-Robots-Tag:noindex
X-PUBLISHED-TTL:PT1H
BEGIN:VTIMEZONE
TZID:UTC
BEGIN:STANDARD
TZOFFSETFROM:+0000
TZOFFSETTO:+0000
TZNAME:UTC
DTSTART:20260101T000000
END:STANDARD
END:VTIMEZONE
BEGIN:VEVENT
DTSTART;TZID=UTC:20260403T150000
DTEND;TZID=UTC:20260403T170000
DTSTAMP:20260421T153702
CREATED:20260222T011248Z
LAST-MODIFIED:20260330T085309Z
UID:373182-1775228400-1775235600@vfclondon.org
SUMMARY:Good Friday Service
DESCRIPTION:This Good Friday\, join us for Solemn Evangelism Services as we start the part 1 of our Darkness into Light service. We will be sharing the love of Christ and the message of salvation\, Let’s make this Easter a time of impact\, hope\, and transformation in our community! \n📍 Location: South Harrow Baptist Church\, 270 Northolt Road\, Harrow\, HA2 8EB⏰ Time: 3pm – 5pm \nCome and be part of this powerful service!
URL:https://vfclondon.org/vfc-events/good-friday-service/
LOCATION:South Harrow Baptist Church\, South Harrow Baptist Church 270 Northolt Road\, London\, HA2 8EB\, United Kingdom
CATEGORIES:Main,Reach
ATTACH;FMTTYPE=image/png:https://vfclondon.org/wp-content/uploads/2026/02/GoodFriday4.png
END:VEVENT
END:VCALENDAR