BEGIN:VCALENDAR
VERSION:2.0
PRODID:-//VFC LONDON - ECPv6.10.1//NONSGML v1.0//EN
CALSCALE:GREGORIAN
METHOD:PUBLISH
X-ORIGINAL-URL:https://vfclondon.org
X-WR-CALDESC:Events for VFC LONDON
REFRESH-INTERVAL;VALUE=DURATION:PT1H
X-Robots-Tag:noindex
X-PUBLISHED-TTL:PT1H
BEGIN:VTIMEZONE
TZID:UTC
BEGIN:STANDARD
TZOFFSETFROM:+0000
TZOFFSETTO:+0000
TZNAME:UTC
DTSTART:20250101T000000
END:STANDARD
END:VTIMEZONE
BEGIN:VEVENT
DTSTART;TZID=UTC:20250622T103000
DTEND;TZID=UTC:20250622T120000
DTSTAMP:20260423T103043
CREATED:20250212T202254Z
LAST-MODIFIED:20250315T020308Z
UID:372648-1750588200-1750593600@vfclondon.org
SUMMARY:Sunday service with Prophet Michel & Sandy
DESCRIPTION:Join us for a special Sunday Service with Prophet Michel & Sandy. This will be a powerful time of prophetic teaching\, worship\, and fellowship. Whether you’re seeking guidance or a fresh encounter with God\, this service will be a blessing to you. \n📍 Venue: Vue Cinema\, Screen 1📍 Address: St. George’s Shopping & Leisure Centre\, St. Anne’s Road\, London HA1 1HS⏰ Time: 10:30 AM – 12:00 PM \nCome expecting a powerful move of God and leave with a renewed spirit!
URL:https://vfclondon.org/vfc-events/sunday-service-with-prophet-michel-sandy/
LOCATION:VFC London Church Venue\, St George's Shopping & Leisure\, Vue Cinema\, Screen 1 Centre\, St Anne's Road\, London\, London\, Harrow on the hill\, HA1 1HS\, United Kingdom
CATEGORIES:Special Guest
ATTACH;FMTTYPE=image/png:https://vfclondon.org/wp-content/uploads/2025/02/Slide2-2.png
ORGANIZER;CN="VFC London":MAILTO:connect@vfclondon.org
END:VEVENT
END:VCALENDAR