BEGIN:VCALENDAR
VERSION:2.0
PRODID:-//VFC LONDON - ECPv6.10.1//NONSGML v1.0//EN
CALSCALE:GREGORIAN
METHOD:PUBLISH
X-ORIGINAL-URL:https://vfclondon.org
X-WR-CALDESC:Events for VFC LONDON
REFRESH-INTERVAL;VALUE=DURATION:PT1H
X-Robots-Tag:noindex
X-PUBLISHED-TTL:PT1H
BEGIN:VTIMEZONE
TZID:UTC
BEGIN:STANDARD
TZOFFSETFROM:+0000
TZOFFSETTO:+0000
TZNAME:UTC
DTSTART:20250101T000000
END:STANDARD
END:VTIMEZONE
BEGIN:VEVENT
DTSTART;TZID=UTC:20251227T173000
DTEND;TZID=UTC:20251227T193000
DTSTAMP:20260422T013910
CREATED:20250213T193208Z
LAST-MODIFIED:20250301T042148Z
UID:372741-1766856600-1766863800@vfclondon.org
SUMMARY:Youth Day (Dec)
DESCRIPTION:Join us for Youth Day\, a fun and impactful gathering for the youth of our church! Taking place on the last Saturday of every month\, this event is a great opportunity to connect\, grow\, and have fun. Expect exciting games\, engaging discussions\, and a time of sharing from the Word. Whether you’re new or a regular\, come and be part of a community that empowers and encourages one another in faith. \n📅 Date: Last Saturday of every month📍 Location: Chichester Court\, Royal College St\, London NW1 9NJ⏰ Time: From 5:30PM \nBring a friend and let’s make it a great time together! 🎉
URL:https://vfclondon.org/vfc-events/youth-day-dec/
LOCATION:The Shed\, Chichester Court\, Royal College St\, London\, London\, Camden\, NW1 9NJ\, United Kingdom
CATEGORIES:Youth
ATTACH;FMTTYPE=image/png:https://vfclondon.org/wp-content/uploads/2025/02/youth-slide-3.png
ORGANIZER;CN="VFC London":MAILTO:connect@vfclondon.org
END:VEVENT
END:VCALENDAR