BEGIN:VCALENDAR
VERSION:2.0
PRODID:-//VFC LONDON - ECPv6.10.1//NONSGML v1.0//EN
CALSCALE:GREGORIAN
METHOD:PUBLISH
X-WR-CALNAME:VFC LONDON
X-ORIGINAL-URL:https://vfclondon.org
X-WR-CALDESC:Events for VFC LONDON
REFRESH-INTERVAL;VALUE=DURATION:PT1H
X-Robots-Tag:noindex
X-PUBLISHED-TTL:PT1H
BEGIN:VTIMEZONE
TZID:UTC
BEGIN:STANDARD
TZOFFSETFROM:+0000
TZOFFSETTO:+0000
TZNAME:UTC
DTSTART:20260101T000000
END:STANDARD
END:VTIMEZONE
BEGIN:VEVENT
DTSTART;TZID=UTC:20260222T140000
DTEND;TZID=UTC:20260222T180000
DTSTAMP:20260421T235622
CREATED:20260222T005125Z
LAST-MODIFIED:20260222T005125Z
UID:373169-1771768800-1771783200@vfclondon.org
SUMMARY:Youth Day (Feb)
DESCRIPTION:Join us for Youth Day\, a fun and impactful gathering for the youth of our church! Taking place on the last Saturday of every month (or Sunday)\, this event is a great opportunity to connect\, grow\, and have fun. Expect exciting games\, engaging discussions\, and a time of sharing from the Word. Whether you’re new or a regular\, come and be part of a community that empowers and encourages one another in faith. \n📅 Date: Sunday 22nd of Feb 2026📍 Location: Mission House\, 3 Norfolk Road\, Harrow HA1 4NL⏰ Time: From 2:00PM \n \nBring a friend and let’s make it a great time together! 🎉
URL:https://vfclondon.org/vfc-events/youth-day-feb-2/
CATEGORIES:Youth
ATTACH;FMTTYPE=image/png:https://vfclondon.org/wp-content/uploads/2026/02/YouthDayFeb.png
END:VEVENT
END:VCALENDAR